BEGIN:VCALENDAR
METHOD:PUBLISH
VERSION:2.0
CALSCALE:GREGORIAN
PRODID:-//NONSGML WPForms//NONSGML Sugar Calendar Feeds v3.10.0//EN
X-WR-CALNAME:Water Color Daffodils - Abi Brewer Fine Art
X-WR-CALDESC:Druid City Makerspace
X-WR-TIMEZONE:America/Chicago
BEGIN:VTIMEZONE
TZID:America/Chicago
BEGIN:STANDARD
TZOFFSETFROM:-0500
TZOFFSETTO:-0600
DTSTART:20251102T070000
TZNAME:CST
END:STANDARD
BEGIN:DAYLIGHT
TZOFFSETFROM:-0600
TZOFFSETTO:-0500
DTSTART:20260308T080000
TZNAME:CDT
END:DAYLIGHT
END:VTIMEZONE
BEGIN:VTIMEZONE
TZID:America/Chicago
BEGIN:STANDARD
TZOFFSETFROM:-0500
TZOFFSETTO:-0600
DTSTART:20251102T070000
TZNAME:CST
END:STANDARD
BEGIN:DAYLIGHT
TZOFFSETFROM:-0600
TZOFFSETTO:-0500
DTSTART:20260308T080000
TZNAME:CDT
END:DAYLIGHT
END:VTIMEZONE
BEGIN:VEVENT
SUMMARY:Water Color Daffodils - Abi Brewer Fine Art
DESCRIPTION:Learn how to paint an 8"x 8" pre-sketched watercolor paintin
 g of daffodils.\nOption to use gold leaf for embellishment!\nAll supplie
 s included.\n\nPerfect for this spring season!!\n\nFor this workshop - p
 lease sign up on Abi's website (and check out all of her beautiful work 
 too!!): https://www.abibrewerfineart.com/workshops\n\n&nbsp\;
URL;VALUE=URI:https://druidcitymakerspace.com/events/water-color-daffodi
 ls-abi-brewer-fine-art/
UID:urn:uuid:6ca90b9e-851e-4e93-b5e2-af68fd7d6676
STATUS:CONFIRMED
ORGANIZER:
DTSTAMP:20260421T102052Z
DTSTART;TZID=America/Chicago:20260312T180000
DTEND;TZID=America/Chicago:20260312T200000
END:VEVENT
END:VCALENDAR