BEGIN:VCALENDAR
METHOD:PUBLISH
VERSION:2.0
CALSCALE:GREGORIAN
PRODID:-//NONSGML WPForms//NONSGML Sugar Calendar Feeds v3.10.0//EN
X-WR-CALNAME:Time-to-Unwind
X-WR-CALDESC:Druid City Makerspace
X-WR-TIMEZONE:America/Chicago
BEGIN:VTIMEZONE
TZID:America/Chicago
BEGIN:STANDARD
TZOFFSETFROM:-0500
TZOFFSETTO:-0600
DTSTART:20261101T070000
TZNAME:CST
END:STANDARD
END:VTIMEZONE
BEGIN:VTIMEZONE
TZID:America/Chicago
BEGIN:STANDARD
TZOFFSETFROM:-0500
TZOFFSETTO:-0600
DTSTART:20261101T070000
TZNAME:CST
END:STANDARD
END:VTIMEZONE
BEGIN:VEVENT
SUMMARY:Time to Unwind
DESCRIPTION:Take a midweek break and slow things down with Time to Unwin
 d\, a relaxed fiber arts gathering at Druid City Makerspace. This is an 
 open\, come-as-you-are space to work on your own fiber projects while sp
 ending time with others who enjoy making with their hands.\nBring whatev
 er you’re working on—knitting\, crochet\, embroidery\, weaving\, spi
 nning\, or any portable fiber art—and settle in for a low-stress eveni
 ng.\n🧶 No membership required🧶 Free to attend🧶 All skill levels
  welcome\nThere’s no instruction\, no expectations\, and no pressure t
 o be productive. Just a comfortable space to unwind\, create\, and conne
 ct.\nWant to learn something new?  April is Bead Weaving.  This is a $
 5 project for this month only.  Do not anticipate finishing in one sess
 ion\, swing back throughout the month to finish.\n\nYou do NOT need to b
 e here for the full two hours\, just come and go when you are able.
URL;VALUE=URI:https://druidcitymakerspace.com/sc_recurring_event/time-to
 -unwind-8-2-2/
UID:urn:uuid:6de2dc36-4043-4751-9f22-dac6f6cd3306
STATUS:CONFIRMED
ORGANIZER:
DTSTAMP:20260420T155421Z
DTSTART;TZID=America/Chicago:20270127T170000
DTEND;TZID=America/Chicago:20270127T190000
RRULE:FREQ=WEEKLY;INTERVAL=1
LOCATION:813 31st Ave
END:VEVENT
END:VCALENDAR