BEGIN:VCALENDAR
METHOD:PUBLISH
VERSION:2.0
CALSCALE:GREGORIAN
PRODID:-//NONSGML WPForms//NONSGML Sugar Calendar Feeds v3.10.0//EN
X-WR-CALNAME:Stained Glass UFO Tealight - Copy
X-WR-CALDESC:Druid City Makerspace
X-WR-TIMEZONE:America/Chicago
BEGIN:VTIMEZONE
TZID:America/Chicago
BEGIN:STANDARD
TZOFFSETFROM:-0500
TZOFFSETTO:-0600
DTSTART:20251102T070000
TZNAME:CST
END:STANDARD
END:VTIMEZONE
BEGIN:VTIMEZONE
TZID:America/Chicago
BEGIN:STANDARD
TZOFFSETFROM:-0500
TZOFFSETTO:-0600
DTSTART:20251102T070000
TZNAME:CST
END:STANDARD
END:VTIMEZONE
BEGIN:VEVENT
SUMMARY:Stained Glass UFO Tealight - Copy
DESCRIPTION:I pick the pattern\, you pick your glass and make it your ow
 n.  With this fun piece you even have the option to laser etch somethin
 g in the tractor beam - will you go traditional with cow or human\, or p
 erhaps something more unique?\n\nLearn stained glass from start to finis
 h.\n\n 	Choose your glass\n 	Cut your glass\n 	Break your glass (on purp
 ose)\n 	Grind your glass\n 	Foil your glass\n 	Solder your glass togethe
 r\n 	Laser etch and paint fill\, if you so choose\, to add some flair to
  your piece.**Safety comes first: eye protection required (and provided)
 \, gloves provided (use is your preference.)Beginner-Challenging - meani
 ng yes\, a beginner can do this\, with maybe a few bumps along the road.
   Very satisfying.
URL;VALUE=URI:https://druidcitymakerspace.com/events/stained-glass-ufo-t
 ealight-2-2/
UID:urn:uuid:c1e2a430-6804-4626-8f44-9e0f02d7b909
STATUS:CONFIRMED
ORGANIZER:
DTSTAMP:20260421T100157Z
DTSTART;TZID=America/Chicago:20260208T140000
DTEND;TZID=America/Chicago:20260208T170000
LOCATION:813 31st Ave
END:VEVENT
END:VCALENDAR