BEGIN:VCALENDAR
METHOD:PUBLISH
VERSION:2.0
CALSCALE:GREGORIAN
PRODID:-//NONSGML WPForms//NONSGML Sugar Calendar Feeds v3.10.0//EN
X-WR-CALNAME:Stained Glass - Moth
X-WR-CALDESC:Druid City Makerspace
X-WR-TIMEZONE:America/Chicago
BEGIN:VTIMEZONE
TZID:America/Chicago
BEGIN:STANDARD
TZOFFSETFROM:-0500
TZOFFSETTO:-0600
DTSTART:20251102T070000
TZNAME:CST
END:STANDARD
BEGIN:DAYLIGHT
TZOFFSETFROM:-0600
TZOFFSETTO:-0500
DTSTART:20260308T080000
TZNAME:CDT
END:DAYLIGHT
END:VTIMEZONE
BEGIN:VTIMEZONE
TZID:America/Chicago
BEGIN:STANDARD
TZOFFSETFROM:-0500
TZOFFSETTO:-0600
DTSTART:20251102T070000
TZNAME:CST
END:STANDARD
BEGIN:DAYLIGHT
TZOFFSETFROM:-0600
TZOFFSETTO:-0500
DTSTART:20260308T080000
TZNAME:CDT
END:DAYLIGHT
END:VTIMEZONE
BEGIN:VEVENT
SUMMARY:Stained Glass - Moth
DESCRIPTION:You've seen his work - now learn the art of glass from our r
 esident "moth man" himself!\n\nJacob is teaching his first glass class\,
  and we felt it most appropriate to start with a moth pattern he has cre
 ated. If you want your moth to be accurate\, Jacob is the one to help yo
 u pick your glass - or go rogue and make a moth of your imagniation.\n\n
 Beginning Stained Glass Class\nYou will:\n\n 	Cut and break glass\n 	Gri
 nd glass\n 	Foil Glass\n 	Solder Glass\n 	Finish your piece\n\n*Eye prot
 ection must be worn\, and is provided.  Gloves also recommended and pro
 vided\, but not required.\n\nCheck out more of his work on Instagram: @c
 helsea.moths
URL;VALUE=URI:https://druidcitymakerspace.com/events/stained-glass-moth-
 2/
UID:urn:uuid:e11f9ca5-5c4a-453d-b21a-6d4472d95fba
STATUS:CONFIRMED
ORGANIZER:
DTSTAMP:20260421T152447Z
DTSTART;TZID=America/Chicago:20260313T180000
DTEND;TZID=America/Chicago:20260313T210000
LOCATION:813 31st Ave
END:VEVENT
END:VCALENDAR