BEGIN:VCALENDAR
METHOD:PUBLISH
VERSION:2.0
CALSCALE:GREGORIAN
PRODID:-//NONSGML WPForms//NONSGML Sugar Calendar Feeds v3.10.0//EN
X-WR-CALNAME:Stained Glass - Mini Fly or Mini Cicada
X-WR-CALDESC:Druid City Makerspace
X-WR-TIMEZONE:America/Chicago
BEGIN:VTIMEZONE
TZID:America/Chicago
BEGIN:STANDARD
TZOFFSETFROM:-0500
TZOFFSETTO:-0600
DTSTART:20251102T070000
TZNAME:CST
END:STANDARD
BEGIN:DAYLIGHT
TZOFFSETFROM:-0600
TZOFFSETTO:-0500
DTSTART:20260308T080000
TZNAME:CDT
END:DAYLIGHT
END:VTIMEZONE
BEGIN:VTIMEZONE
TZID:America/Chicago
BEGIN:STANDARD
TZOFFSETFROM:-0500
TZOFFSETTO:-0600
DTSTART:20251102T070000
TZNAME:CST
END:STANDARD
BEGIN:DAYLIGHT
TZOFFSETFROM:-0600
TZOFFSETTO:-0500
DTSTART:20260308T080000
TZNAME:CDT
END:DAYLIGHT
END:VTIMEZONE
BEGIN:VEVENT
SUMMARY:Stained Glass - Mini Fly or Mini Cicada
DESCRIPTION:Learn the basics of stained glass and create a little fly gu
 y for your window.\n\nParticipants will:\n1. Choose Glass\n2. Cut and Br
 eak Glass\n3. Grind Glass\n4. Foil Glass\n5. Solder Glass\n6. Clean and 
 Hang\n\nThis pattern does come with some challenges\, as it is all curve
 s - but it's a thing of nature - so if you aren't tied to perfection - t
 his is a fun lil piece to start with!
URL;VALUE=URI:https://druidcitymakerspace.com/events/stained-glass-mini-
 fly-or-mini-cicada/
UID:urn:uuid:751c8a00-8ef3-41c1-ba90-9a97a6212a75
STATUS:CONFIRMED
ORGANIZER:
DTSTAMP:20260422T104535Z
DTSTART;TZID=America/Chicago:20260320T160000
DTEND;TZID=America/Chicago:20260320T180000
LOCATION:813 31st Ave
END:VEVENT
END:VCALENDAR