BEGIN:VCALENDAR
METHOD:PUBLISH
VERSION:2.0
CALSCALE:GREGORIAN
PRODID:-//NONSGML WPForms//NONSGML Sugar Calendar Feeds v3.10.0//EN
X-WR-CALNAME:Stained Glass Fish
X-WR-CALDESC:Druid City Makerspace
X-WR-TIMEZONE:America/Chicago
BEGIN:VTIMEZONE
TZID:America/Chicago
BEGIN:STANDARD
TZOFFSETFROM:-0500
TZOFFSETTO:-0600
DTSTART:20251102T070000
TZNAME:CST
END:STANDARD
BEGIN:DAYLIGHT
TZOFFSETFROM:-0600
TZOFFSETTO:-0500
DTSTART:20260308T080000
TZNAME:CDT
END:DAYLIGHT
END:VTIMEZONE
BEGIN:VTIMEZONE
TZID:America/Chicago
BEGIN:STANDARD
TZOFFSETFROM:-0500
TZOFFSETTO:-0600
DTSTART:20251102T070000
TZNAME:CST
END:STANDARD
BEGIN:DAYLIGHT
TZOFFSETFROM:-0600
TZOFFSETTO:-0500
DTSTART:20260308T080000
TZNAME:CDT
END:DAYLIGHT
END:VTIMEZONE
BEGIN:VEVENT
SUMMARY:Stained Glass Fish
DESCRIPTION:Learn the basics of stained glass and take home a finished p
 iece.\n\nParticipants will:\n1. Choose Glass\n2. Cut and Grind glass to 
 shape your fish.\n3. Foil and Solder\n4. Pick a bead and use wire to mak
 e your fishhook.\n\nSafety glasses required (and provided) for cutting a
 nd grinding. Gloves provided at any step of the process.
URL;VALUE=URI:https://druidcitymakerspace.com/events/stained-glass-fish/
UID:urn:uuid:feed7b05-29b8-42ab-bed6-5e57a3d0ff49
STATUS:CONFIRMED
ORGANIZER:
DTSTAMP:20260421T120833Z
DTSTART;TZID=America/Chicago:20260404T180000
DTEND;TZID=America/Chicago:20260404T203000
LOCATION:813 31st Ave
END:VEVENT
END:VCALENDAR