BEGIN:VCALENDAR
METHOD:PUBLISH
VERSION:2.0
CALSCALE:GREGORIAN
PRODID:-//NONSGML WPForms//NONSGML Sugar Calendar Feeds v3.10.0//EN
X-WR-CALNAME:Saturday Morning Cartoons
X-WR-CALDESC:Druid City Makerspace
X-WR-TIMEZONE:America/Chicago
BEGIN:VTIMEZONE
TZID:America/Chicago
BEGIN:STANDARD
TZOFFSETFROM:-0500
TZOFFSETTO:-0600
DTSTART:20251102T070000
TZNAME:CST
END:STANDARD
BEGIN:DAYLIGHT
TZOFFSETFROM:-0600
TZOFFSETTO:-0500
DTSTART:20260308T080000
TZNAME:CDT
END:DAYLIGHT
END:VTIMEZONE
BEGIN:VTIMEZONE
TZID:America/Chicago
BEGIN:STANDARD
TZOFFSETFROM:-0500
TZOFFSETTO:-0600
DTSTART:20251102T070000
TZNAME:CST
END:STANDARD
BEGIN:DAYLIGHT
TZOFFSETFROM:-0600
TZOFFSETTO:-0500
DTSTART:20260308T080000
TZNAME:CDT
END:DAYLIGHT
END:VTIMEZONE
BEGIN:VEVENT
SUMMARY:Saturday Morning Cartoons
DESCRIPTION:To the Launch Bay! er . . . .Makerspace.\n\nCome and join wa
 tch Saturday morning cartoons with us. This week\, we'll enjoy Octonauts
 .\n\nThis is a drop-in\, come and go as you please from 10-12.\n\nLaser 
 woodcuts to color will be $2 each.
URL;VALUE=URI:https://druidcitymakerspace.com/events/saturday-morning-ca
 rtoons-4-2/
UID:urn:uuid:858d7969-4f97-413a-b6de-b4552ea36afd
STATUS:CONFIRMED
ORGANIZER:
DTSTAMP:20260422T090157Z
DTSTART;TZID=America/Chicago:20260425T100000
DTEND;TZID=America/Chicago:20260425T120000
LOCATION:813 31st Ave
END:VEVENT
END:VCALENDAR