BEGIN:VCALENDAR
METHOD:PUBLISH
VERSION:2.0
CALSCALE:GREGORIAN
PRODID:-//NONSGML WPForms//NONSGML Sugar Calendar Feeds v3.10.0//EN
X-WR-CALNAME:Private Stained Glass Class
X-WR-CALDESC:Druid City Makerspace
X-WR-TIMEZONE:America/Chicago
BEGIN:VTIMEZONE
TZID:America/Chicago
BEGIN:STANDARD
TZOFFSETFROM:-0500
TZOFFSETTO:-0600
DTSTART:20251102T070000
TZNAME:CST
END:STANDARD
BEGIN:DAYLIGHT
TZOFFSETFROM:-0600
TZOFFSETTO:-0500
DTSTART:20260308T080000
TZNAME:CDT
END:DAYLIGHT
END:VTIMEZONE
BEGIN:VTIMEZONE
TZID:America/Chicago
BEGIN:STANDARD
TZOFFSETFROM:-0500
TZOFFSETTO:-0600
DTSTART:20251102T070000
TZNAME:CST
END:STANDARD
BEGIN:DAYLIGHT
TZOFFSETFROM:-0600
TZOFFSETTO:-0500
DTSTART:20260308T080000
TZNAME:CDT
END:DAYLIGHT
END:VTIMEZONE
BEGIN:VEVENT
SUMMARY:Private Stained Glass Class
DESCRIPTION:Requested class - taught by Jacob - Woodpecker - multiple op
 tions.\n\nIf you're interested in scheduling a private stained glass cla
 ss\, let us know!\nWe prefer 4-6 participants when scheduling - patterns
  and prices vary.
URL;VALUE=URI:https://druidcitymakerspace.com/events/private-stained-gla
 ss-class/
UID:urn:uuid:497426c6-e69a-42d8-845c-384885241d19
STATUS:CONFIRMED
ORGANIZER:
DTSTAMP:20260421T123618Z
DTSTART;TZID=America/Chicago:20260421T150000
DTEND;TZID=America/Chicago:20260421T180000
LOCATION:813 31st Ave
END:VEVENT
END:VCALENDAR