BEGIN:VCALENDAR
METHOD:PUBLISH
VERSION:2.0
CALSCALE:GREGORIAN
PRODID:-//NONSGML WPForms//NONSGML Sugar Calendar Feeds v3.10.0//EN
X-WR-CALNAME:Pottery Painting Party
X-WR-CALDESC:Druid City Makerspace
X-WR-TIMEZONE:America/Chicago
BEGIN:VTIMEZONE
TZID:America/Chicago
BEGIN:STANDARD
TZOFFSETFROM:-0500
TZOFFSETTO:-0600
DTSTART:20251102T070000
TZNAME:CST
END:STANDARD
END:VTIMEZONE
BEGIN:VTIMEZONE
TZID:America/Chicago
BEGIN:STANDARD
TZOFFSETFROM:-0500
TZOFFSETTO:-0600
DTSTART:20251102T070000
TZNAME:CST
END:STANDARD
END:VTIMEZONE
BEGIN:VEVENT
SUMMARY:Pottery Painting Party
DESCRIPTION:Private Event\n\nMembers and Drop-ins still welcome - just w
 ork in the warehouse!
URL;VALUE=URI:https://druidcitymakerspace.com/events/pottery-painting-pa
 rty/
UID:urn:uuid:9edc05d4-5f5c-4279-bc0d-74eb6d6f093f
STATUS:CONFIRMED
ORGANIZER:
DTSTAMP:20260421T120021Z
DTSTART;TZID=America/Chicago:20260306T130000
DTEND;TZID=America/Chicago:20260306T150000
END:VEVENT
END:VCALENDAR