BEGIN:VCALENDAR
METHOD:PUBLISH
VERSION:2.0
CALSCALE:GREGORIAN
PRODID:-//NONSGML WPForms//NONSGML Sugar Calendar Feeds v3.10.0//EN
X-WR-CALNAME:OLLI-Weaving
X-WR-CALDESC:Druid City Makerspace
X-WR-TIMEZONE:America/Chicago
BEGIN:VTIMEZONE
TZID:America/Chicago
BEGIN:STANDARD
TZOFFSETFROM:-0500
TZOFFSETTO:-0600
DTSTART:20251102T070000
TZNAME:CST
END:STANDARD
END:VTIMEZONE
BEGIN:VTIMEZONE
TZID:America/Chicago
BEGIN:STANDARD
TZOFFSETFROM:-0500
TZOFFSETTO:-0600
DTSTART:20251102T070000
TZNAME:CST
END:STANDARD
END:VTIMEZONE
BEGIN:VEVENT
SUMMARY:OLLI - Weaving
DESCRIPTION:Check out all Olli has to offer:\n\nhttps://olli.ua.edu/
URL;VALUE=URI:https://druidcitymakerspace.com/sc_recurring_event/olli-we
 aving/
UID:urn:uuid:fb02207b-bfb3-4d87-94ad-697da602326f
STATUS:CONFIRMED
ORGANIZER:
DTSTAMP:20260421T135128Z
DTSTART;TZID=America/Chicago:20260304T130000
DTEND;TZID=America/Chicago:20260304T140000
RRULE:FREQ=WEEKLY;INTERVAL=1;UNTIL=20260311T235959Z
END:VEVENT
END:VCALENDAR