BEGIN:VCALENDAR
METHOD:PUBLISH
VERSION:2.0
CALSCALE:GREGORIAN
PRODID:-//NONSGML WPForms//NONSGML Sugar Calendar Feeds v3.10.0//EN
X-WR-CALNAME:OLLI-Stained-Glass
X-WR-CALDESC:Druid City Makerspace
X-WR-TIMEZONE:America/Chicago
BEGIN:VTIMEZONE
TZID:America/Chicago
BEGIN:STANDARD
TZOFFSETFROM:-0500
TZOFFSETTO:-0600
DTSTART:20251102T070000
TZNAME:CST
END:STANDARD
END:VTIMEZONE
BEGIN:VTIMEZONE
TZID:America/Chicago
BEGIN:STANDARD
TZOFFSETFROM:-0500
TZOFFSETTO:-0600
DTSTART:20251102T070000
TZNAME:CST
END:STANDARD
END:VTIMEZONE
BEGIN:VEVENT
SUMMARY:OLLI - Stained Glass
DESCRIPTION:Retiree's - interested in classes - check out OLLI.\n\nhttps
 ://olli.ua.edu/
URL;VALUE=URI:https://druidcitymakerspace.com/sc_recurring_event/olli-st
 ained-glass/
UID:urn:uuid:144375fe-7be2-495d-bc50-61d895e26480
STATUS:CONFIRMED
ORGANIZER:
DTSTAMP:20260421T084638Z
DTSTART;TZID=America/Chicago:20260304T100000
DTEND;TZID=America/Chicago:20260304T113000
RRULE:FREQ=WEEKLY;INTERVAL=1;UNTIL=20260311T235959Z
END:VEVENT
END:VCALENDAR