BEGIN:VCALENDAR
METHOD:PUBLISH
VERSION:2.0
CALSCALE:GREGORIAN
PRODID:-//NONSGML WPForms//NONSGML Sugar Calendar Feeds v3.10.0//EN
X-WR-CALNAME:Glazing with a Silkscreen
X-WR-CALDESC:Druid City Makerspace
X-WR-TIMEZONE:America/Chicago
BEGIN:VTIMEZONE
TZID:America/Chicago
BEGIN:STANDARD
TZOFFSETFROM:-0500
TZOFFSETTO:-0600
DTSTART:20251102T070000
TZNAME:CST
END:STANDARD
BEGIN:DAYLIGHT
TZOFFSETFROM:-0600
TZOFFSETTO:-0500
DTSTART:20260308T080000
TZNAME:CDT
END:DAYLIGHT
END:VTIMEZONE
BEGIN:VTIMEZONE
TZID:America/Chicago
BEGIN:STANDARD
TZOFFSETFROM:-0500
TZOFFSETTO:-0600
DTSTART:20251102T070000
TZNAME:CST
END:STANDARD
BEGIN:DAYLIGHT
TZOFFSETFROM:-0600
TZOFFSETTO:-0500
DTSTART:20260308T080000
TZNAME:CDT
END:DAYLIGHT
END:VTIMEZONE
BEGIN:VEVENT
SUMMARY:Glazing with a Silkscreen
DESCRIPTION:Personalize a plate - use our silkscreens and cut-on-site st
 encils to make this your own.\n\nSilkscreens include: Leaves\, Flowers\,
  UFO\, Cats\, etc.
URL;VALUE=URI:https://druidcitymakerspace.com/events/glazing-with-a-silk
 screen/
UID:urn:uuid:fbb7c6cd-cb95-47c5-812b-93b2daded9e1
STATUS:CONFIRMED
ORGANIZER:
DTSTAMP:20260421T101732Z
DTSTART;TZID=America/Chicago:20260322T140000
DTEND;TZID=America/Chicago:20260322T153000
LOCATION:813 31st Ave
END:VEVENT
END:VCALENDAR