BEGIN:VCALENDAR
METHOD:PUBLISH
VERSION:2.0
CALSCALE:GREGORIAN
PRODID:-//NONSGML WPForms//NONSGML Sugar Calendar Feeds v3.10.0//EN
X-WR-CALNAME:Closed for Spring Break
X-WR-CALDESC:Druid City Makerspace
X-WR-TIMEZONE:America/Chicago
BEGIN:VTIMEZONE
TZID:America/Chicago
BEGIN:STANDARD
TZOFFSETFROM:-0500
TZOFFSETTO:-0600
DTSTART:20251102T070000
TZNAME:CST
END:STANDARD
BEGIN:DAYLIGHT
TZOFFSETFROM:-0600
TZOFFSETTO:-0500
DTSTART:20260308T080000
TZNAME:CDT
END:DAYLIGHT
END:VTIMEZONE
BEGIN:VTIMEZONE
TZID:America/Chicago
BEGIN:STANDARD
TZOFFSETFROM:-0500
TZOFFSETTO:-0600
DTSTART:20251102T070000
TZNAME:CST
END:STANDARD
BEGIN:DAYLIGHT
TZOFFSETFROM:-0600
TZOFFSETTO:-0500
DTSTART:20260308T080000
TZNAME:CDT
END:DAYLIGHT
END:VTIMEZONE
BEGIN:VEVENT
SUMMARY:Closed for Spring Break
DESCRIPTION:It's been a busy school year - and we appreciate the break.\
 n\nWe'll be back after break and heading into April with a wider variety
  of classes to offer!!!\n\nThings to come:\n\nKinusaiga\nJewelry Making 
 - Purse Charms\nPaper Quilling\nWriting\nMoth Viewing\nMushroom Educatio
 n\n\nand more . . . . .
URL;VALUE=URI:https://druidcitymakerspace.com/events/closed-for-spring-b
 reak/
UID:urn:uuid:ec7fd74c-47f6-4476-97e0-fbfbff0c3be7
STATUS:CONFIRMED
ORGANIZER:
DTSTAMP:20260421T155048Z
DTSTART;TZID=America/Chicago:20260314T160000
DTEND;TZID=America/Chicago:20260319T210000
END:VEVENT
END:VCALENDAR