BEGIN:VCALENDAR
METHOD:PUBLISH
VERSION:2.0
CALSCALE:GREGORIAN
PRODID:-//NONSGML WPForms//NONSGML Sugar Calendar Feeds v3.10.0//EN
X-WR-CALNAME:BookStock 2026
X-WR-CALDESC:Druid City Makerspace
X-WR-TIMEZONE:America/Chicago
BEGIN:VTIMEZONE
TZID:America/Chicago
BEGIN:STANDARD
TZOFFSETFROM:-0500
TZOFFSETTO:-0600
DTSTART:20251102T070000
TZNAME:CST
END:STANDARD
BEGIN:DAYLIGHT
TZOFFSETFROM:-0600
TZOFFSETTO:-0500
DTSTART:20260308T080000
TZNAME:CDT
END:DAYLIGHT
END:VTIMEZONE
BEGIN:VTIMEZONE
TZID:America/Chicago
BEGIN:STANDARD
TZOFFSETFROM:-0500
TZOFFSETTO:-0600
DTSTART:20251102T070000
TZNAME:CST
END:STANDARD
BEGIN:DAYLIGHT
TZOFFSETFROM:-0600
TZOFFSETTO:-0500
DTSTART:20260308T080000
TZNAME:CDT
END:DAYLIGHT
END:VTIMEZONE
BEGIN:VEVENT
SUMMARY:BookStock 2026
DESCRIPTION:Join us for an afternoon of fun featuring free books\, Littl
 e Library box painting\, book binding activities\, a kids character para
 de\, and so much more!\n\nThis event is free to attend and open to all a
 ges!\n\nGovernment Plaza:" 6th st &amp\; 21st Ave\, Tuscaloosa\, AL 3540
 1\n\nEvent by: Literacy Council of West Alabama\n\nDruid City Makerspace
  will be there with a booth for making bookmarks - come create and celeb
 rate reading!
URL;VALUE=URI:https://druidcitymakerspace.com/events/bookstock-2026/
UID:urn:uuid:b4d60c63-cb84-4c53-9ca3-d6c704c7c591
STATUS:CONFIRMED
ORGANIZER:
DTSTAMP:20260421T120335Z
DTSTART;TZID=America/Chicago:20260321T100000
DTEND;TZID=America/Chicago:20260321T130000
END:VEVENT
END:VCALENDAR