BEGIN:VCALENDAR
METHOD:PUBLISH
VERSION:2.0
CALSCALE:GREGORIAN
PRODID:-//NONSGML WPForms//NONSGML Sugar Calendar Feeds v3.10.0//EN
X-WR-CALNAME:Bling a Book
X-WR-CALDESC:Druid City Makerspace
X-WR-TIMEZONE:America/Chicago
BEGIN:VTIMEZONE
TZID:America/Chicago
BEGIN:STANDARD
TZOFFSETFROM:-0500
TZOFFSETTO:-0600
DTSTART:20251102T070000
TZNAME:CST
END:STANDARD
BEGIN:DAYLIGHT
TZOFFSETFROM:-0600
TZOFFSETTO:-0500
DTSTART:20260308T080000
TZNAME:CDT
END:DAYLIGHT
END:VTIMEZONE
BEGIN:VTIMEZONE
TZID:America/Chicago
BEGIN:STANDARD
TZOFFSETFROM:-0500
TZOFFSETTO:-0600
DTSTART:20251102T070000
TZNAME:CST
END:STANDARD
BEGIN:DAYLIGHT
TZOFFSETFROM:-0600
TZOFFSETTO:-0500
DTSTART:20260308T080000
TZNAME:CDT
END:DAYLIGHT
END:VTIMEZONE
BEGIN:VEVENT
SUMMARY:Bling a Book
DESCRIPTION:You bring the book\, we have the bling.\n\nBring a favorite 
 and bling out the cover.  Not ready to commit to blinging a book cover 
 but want to chat books and do some diamond art - bookmarks are available
 .
URL;VALUE=URI:https://druidcitymakerspace.com/events/bling-a-book-2/
UID:urn:uuid:7901cdf1-0da1-401c-94e7-781c36f2826f
STATUS:CONFIRMED
ORGANIZER:
DTSTAMP:20260421T101737Z
DTSTART;TZID=America/Chicago:20260404T160000
DTEND;TZID=America/Chicago:20260404T180000
END:VEVENT
END:VCALENDAR